BEGIN:VCALENDAR
METHOD:PUBLISH
VERSION:2.0
PRODID:-//Apple Inc.//iCal 4.0.1//EN
BEGIN:VEVENT
UID:18096835
DTSTAMP:20260422T140436Z
DTSTART;TZID=US/Eastern:20190908T100000
DTEND;TZID=US/Eastern:20190908T120000
SUMMARY:CPCF Roadshow hosted by PSNC
DESCRIPTION:<![CDATA[The Roadshow will provide the best opportunity for contractors and their teams to learn about the five-year Community Pharmacy Contractual Framework (CPCF) agreement\, share their opinions on it and ask questions directly to those who negotiated the deal]]>
END:VEVENT
CALSCALE:GREGORIAN
END:VCALENDAR
 