BEGIN:VCALENDAR
METHOD:PUBLISH
VERSION:2.0
PRODID:-//Apple Inc.//iCal 4.0.1//EN
BEGIN:VEVENT
UID:21739731
DTSTAMP:20260422T080434Z
DTSTART;TZID=US/Eastern:20191017T183000
DTEND;TZID=US/Eastern:20191017T213000
SUMMARY:CPSC Healthier Together Community Pharmacy Training
DESCRIPTION:<![CDATA[The Healthier Together programme – now supporting community pharmacists in the delivery of high quality care to children and young people.]]>
END:VEVENT
CALSCALE:GREGORIAN
END:VCALENDAR
 