BEGIN:VCALENDAR
METHOD:PUBLISH
VERSION:2.0
PRODID:-//Apple Inc.//iCal 4.0.1//EN
BEGIN:VEVENT
UID:1334163
DTSTAMP:20260422T190424Z
DTSTART;TZID=US/Eastern:20200507T183000
DTEND;TZID=US/Eastern:20200507T213000
SUMMARY:-- CANCELLED -- CPSC May 2020 Academy Meeting: Basingstoke
DESCRIPTION:<![CDATA[TBC]]>
END:VEVENT
CALSCALE:GREGORIAN
END:VCALENDAR
 